BEGIN:VCALENDAR
VERSION:2.0
PRODID:-//Sabre//Sabre VObject 4.5.8//EN
CALSCALE:GREGORIAN
NAME:Bistum Augsburg
X-WR-CALNAME:Bistum Augsburg
BEGIN:VEVENT
UID:sabre-vobject-57ba3c78-a7f0-44b6-87ea-5158173bfc1b
DTSTAMP:20260421T092638Z
SUMMARY:Pfarrgottesdienst mit Erstkommunion
DESCRIPTION:https://hoerbach.bistum-augsburg-portal.de/pfarrgottesdienst-mi
 t-erstkommunion_id1744731
DTSTART;TZID=Europe/Berlin:20260426T084500
DURATION:PT30M
LOCATION:St. Andreas\, Hochdorfer Str. 1\, 82278 Althegnenberg
END:VEVENT
BEGIN:VEVENT
UID:sabre-vobject-42de759f-1202-4cc1-a739-bef9dcbc6be1
DTSTAMP:20260421T092638Z
SUMMARY:Krankenkommunion
DESCRIPTION:https://hoerbach.bistum-augsburg-portal.de/krankenkommunion_id1
 744694
DTSTART;TZID=Europe/Berlin:20260430T140000
DURATION:PT30M
LOCATION:St. Andreas\, Hochdorfer Str. 1\, 82278 Althegnenberg
END:VEVENT
BEGIN:VEVENT
UID:sabre-vobject-b829da89-4ad7-4798-a31a-b14b71b0a060
DTSTAMP:20260421T092638Z
SUMMARY:Vorabendmesse
DESCRIPTION:https://hoerbach.bistum-augsburg-portal.de/vorabendmesse_id1744
 695
DTSTART;TZID=Europe/Berlin:20260502T173000
DURATION:PT30M
LOCATION:St. Andreas\, Hochdorfer Str. 1\, 82278 Althegnenberg
END:VEVENT
BEGIN:VEVENT
UID:sabre-vobject-a74caed4-4668-43ae-8f19-da1a4df1fa98
DTSTAMP:20260421T092638Z
SUMMARY:Wort Gottes Feier
DESCRIPTION:https://pg-baindlkirch.bistum-augsburg-portal.de/veranstaltunge
 n/wort-gottes-feier_id1698250
DTSTART;TZID=Europe/Berlin:20260917T100000
DURATION:PT30M
LOCATION:Baindlkirch: St. Martin\, St.-Martin-Str. 3\, 86510 Ried
END:VEVENT
END:VCALENDAR
